Workbook

Sheet 汇总
B1: 医教研中心放射防护工程汇总
A2: 序号 | B2: 项目名称 | C2: 机房位置 | D2: 小计 | E2: 分项小计（元）
B3: 核医学科
A4: 1 | B4: PET-CT机房 | C4: 首层 | D4: =SUM(首层!L6:L13) -> 0 | E4: =首层!L71 -> 0
A5: 2 | B5: ECT机房 | C5: 首层 | D5: =SUM(首层!L15:L22) -> 0
A6: 3 | B6: 核医学病房及辅助房间 | C6: 首层 | D6: =SUM(首层!L24:L52) -> 0
A7: 4 | B7: ERCP机房 | C7: 首层 | D7: =SUM(首层!L54:L61) -> 0
A8: 5 | B8: CT机房 | C8: 首层 | D8: =SUM(首层!L63:L70) -> 0
A9: 6 | B9: 衰变池 | D9: =衰变池!I4 -> 0 | E9: =D9 -> 0
B10: 放疗科（地下一层）
A11: 1 | B11: 速锐刀加速器机房 | C11: 地下一层 | D11: =SUM(地下一层!K5:K8) -> 0 | E11: =地下一层!K35 -> 0
A12: 2 | B12: 射波刀加速器机房 | C12: 地下一层 | D12: =SUM(地下一层!K10:K13) -> 0
A13: 3 | B13: 直线加速器治疗室（3间） | C13: 地下一层 | D13: =SUM(地下一层!K15:K19) -> 0
A14: 4 | B14: 后装机房（2间） | C14: 地下一层 | D14: =SUM(地下一层!K21:K24) -> 0
A15: 5 | B15: 大孔径CT定位机房（2间） | C15: 地下一层 | D15: =SUM(地下一层!K26:K33) -> 0
B16: 放射科
A17: 1 | B17: CT机房（3间） | C17: 二层 | D17: =SUM(二、三层!L6:L13) -> 0 | E17: =二、三层!L43 -> 0
A18: 2 | B18: DR机房 | C18: 二层 | D18: =SUM(二、三层!L25:L32) -> 0
A19: 3 | B19: 胃肠机房 | C19: 二层 | D19: =SUM(二、三层!L15:L23) -> 0
A20: 4 | B20: 钼靶机房 | C20: 三层 | D20: =SUM(二、三层!L35:L42) -> 0
A21: 5 | B21: CT机房（2间） | C21: 负二层
A22: 售后服务费 | C22: 按照项目直接金额的5%计取（六年质保） | E22: =SUM(E4:E19)*0.05 -> 0
A23: 总计（元） | E23: =SUM(E4:E22) -> 0
A24: 保修时长不小于六年。工期预计30日内完成。
A25: 防辐射产品 | B25: 观察窗 | C25: 铅玻璃 | D25: 洞口尺寸：1500*900mm，窗框1480*890mm，(或其他尺寸)铅当量不小于招标要求。 铅玻璃：高纯净率，气泡结石水平达到光学镜片标准，透光率≥90%。若观察窗洞口与铅玻璃尺寸有差异则需负责观察窗洞口改造。
B26: 电动防护平移门 | C26: 铅板 | D26: 1、传动方式：传动部件应采用优质承重门梁，上悬挂电动推拉式，无下轨或地槽，方便人员及担架车进出；开启方向符合现场情况； 2、控制系统：门机选用优质品牌重型门机系统，微电脑智能运行控制，配置具有红外安全设置、防夹安全装置、门灯连锁装置等；操作台和门内侧手触开关； 3、配置LED工作状态指示灯及辐射防护标志牌； 4、门体尺寸：1800*2300mm。(或其他尺寸) 5、门体结构：门板材料采用厚度≥0.8mm的优质无油热熔镀锌钢板，热整板喷塑饰面，颜色为招标人指定，保证所有门体喷涂颜色一致（或不锈钢饰面）。喷涂工艺为静电粉末喷涂工艺。矩型钢焊接骨架，不小于招标要求纯铅防护层，门扇内填材料：内衬采用优质孔径不大于15mm的高强度蜂窝纸材料，与门扇钢板两面充分连接，确保门板的抗冲击力及防潮，蜂窝纸单页纸厚度不低于0.16mm。 6、门板外观要求整板工艺，表面平整光滑，无明显凹凸、擦痕等缺陷，无色差;连接处无任何焊点及铆钉，不接受门体腰线工艺。 7、配中国国检签发：防辐射产品认证证书
B27: 手动防护平开门 | C27: 铅板 | D27: 1、门体尺寸：1000*2200mm (或其他尺寸) ；开启方向按图纸； 2门体结构：门板材料采用厚度≥0.8mm的优质无油热熔镀锌钢板，热整板喷塑饰面，颜色为招标人指定，保证所有门体喷涂颜色一致（或不锈钢饰面）。喷涂工艺为静电粉末喷涂工艺。矩型钢焊接骨架，不小于招标要求纯铅防护层，门扇内填材料：内衬采用优质孔径不大于15mm的高强度蜂窝纸材料，与门扇钢板两面充分连接，确保门板的抗冲击力及防潮，蜂窝纸单页纸厚度不低于0.16mm。门轴部分采用重型承重轴承，无合页暗藏式通轴结构；门套颜色与门体一致。 3、门框、门板表面平整光滑，无明显凹凸、擦痕等缺陷，无色差;连接处无任何焊点及铆钉。锁侧要求平口，无外露螺丝孔（不含锁具和铰链处）及焊点、焊缝，利于日常清洁。 4、优质五金件，锁具为U型，不锈钢材质要求SUS304，可根据门的位置选择锁具功能。下门框为可拆卸结构； 5、门板外观要求整板工艺，表面平整光滑，无明显凹凸、擦痕等缺陷，无色差;连接处无任何焊点及铆钉，不接受门体腰线工艺。 7、配中国国检签发：防辐射产品认证证书

Sheet 地下一层
A1: 医教研中心放射防护工程清单
A2: 序号 | B2: 项目名称 | C2: 项目特征 | D2: 单位 | E2: 数量 | F2: 单价 | G2: 防护收口 | I2: 门窗套（与门窗材质相同） | J2: 安装及运输 | K2: 合价 （铅板收口） | L2: 合价 （硫酸钡收口） | M2: 备注
G3: 硫酸钡收口 | H3: 铅板收口
A4: 一、6兆速锐刀加速器机房
A5: 1 | B5: 速锐刀加速器防护平开门 | C5: 1、洞口尺寸1700*2500，规格2000*2700 2、铅当量8mmpb； 3、饰面热熔镀锌钢板静电粉末喷涂； | D5: 樘 | E5: 1
A6: 2 | B6: 智能门机 | C6: 重型门机 | D6: 套 | E6: 1
A7: 3 | B7: 安全光幕 | C7: 1、安全红外光线 | D7: 套 | E7: 1
A8: 4 | B8: 连锁装置 | C8: 1、医疗设备、患者入口、控制室门、警示灯进行联动 | D8: 套 | E8: 1
A9: 二、6兆射波刀加速器机房
A10: 1 | B10: 射波刀加速器防护平开门 | C10: 1、洞口尺寸1700*2500，规格2000*2700 2、铅当量8mmpb； 3、饰面热熔镀锌钢板静电粉末喷涂； | D10: 樘 | E10: 1
A11: 2 | B11: 智能门机 | C11: 重型门机 | D11: 套 | E11: 1
A12: 3 | B12: 安全光幕 | C12: 1、安全红外光线 | D12: 套 | E12: 1
A13: 4 | B13: 连锁装置 | C13: 1、医疗设备、患者入口、控制室门、警示灯进行联动 | D13: 套 | E13: 1
A14: 三、10兆直线加速器治疗室（三间）
A15: 1 | B15: 加速器防护平开门 | C15: 1、洞口尺寸1700*2500，规格2000*2700 2、铅当量15mmpb+防中子层； 3、饰面热熔镀锌钢板静电粉末喷涂； | D15: 樘 | E15: 1
A16: 2 | B16: 加速器防护平开门 | C16: 1、洞口尺寸1700*2500，规格2000*2700 2、铅当量15mmpb+防中子层； 3、饰面热熔镀锌钢板静电粉末喷涂； | D16: 樘 | E16: 2
A17: 3 | B17: 智能门机 | C17: 重型门机 | D17: 套 | E17: 3
A18: 4 | B18: 安全光幕 | C18: 1、安全红外光线 | D18: 樘 | E18: 3
A19: 5 | B19: 连锁装置 | C19: 1、医疗设备、患者入口、控制室门、警示灯进行联动 | D19: 樘 | E19: 3
A20: 四、后装机房（2间）
A21: 1 | B21: 电动推拉防护门 | C21: 1、洞口尺寸FHM1525，规格1800*2600 2、防护当量7.0mmpb， 3、饰面热熔镀锌钢板静电粉末喷涂 | D21: 樘 | E21: 2
A22: 2 | B22: 智能门机 | C22: 轻型门机 | D22: 套 | E22: 2
A23: 3 | B23: 安全光幕 | C23: 1、安全红外光线 | D23: 组 | E23: 2
A24: 4 | B24: 连锁装置 | C24: 1、医疗设备、患者入口、控制室门、警示灯进行联动 | D24: 支 | E24: 2
A25: 五、大孔径CT定位机房2间
A26: 1 | B26: 电动平移防护门 | C26: 1、门洞口：1822，规格2100*2300 2、防护当量3mmpb， 3、饰面热熔镀锌钢板静电粉末喷涂 | D26: 樘 | E26: 2
A27: 2 | B27: 智能门机 | C27: 轻型门机 | D27: 套 | E27: 2
A28: 3 | B28: 安全光幕 | C28: 1、安全红外光线 | D28: 组 | E28: 2
A29: 4 | B29: 连锁装置 | C29: 1、医疗设备、患者入口、控制室门、警示灯进行联动 | D29: 支 | E29: 2
A30: 5 | B30: 铅玻璃 | C30: 1、铅玻璃尺寸1400*800 2、防护当量3mmpb， | D30: 块 | E30: 2
B31: 防护窗框 | C31: 1、防护窗框尺寸1480*890mm 2、防护当量3mmpb， 3、材质热熔镀锌钢板静电粉末喷涂 | D31: 套 | E31: 2
A32: 6 | B32: 手动平开防护门 | C32: 1、门洞口：FXM0921，规格900*2100 2、防护当量3mmpb， 3、饰面热熔镀锌钢板静电粉末喷涂 | D32: 樘 | E32: 2
A33: 7 | B33: 闭门器 | D33: 套 | E33: 2
C34: 运费
B35: 合计

Sheet 首层
A1: 医教研中心放射防护工程清单
A2: 序号 | B2: 项目名称 | C2: 项目特征 | E2: 单位 | F2: 数量 | G2: 单价 | H2: 防护收口 | J2: 门窗套（与门窗材质相同） | K2: 安装及运输 | L2: 合价 （铅板收口） | N2: 备注
H3: 硫酸钡收口 | I3: 铅板收口
B4: 首层核医学部（房间高度4000mm)
C5: 一、PET-CT
A6: 1 | B6: 防护观察窗 | C6: 铅玻璃 | D6: 1、铅玻璃尺寸1400*800mm 2、防护当量10mmpb， | E6: 樘 | F6: 1
C7: 防护窗框 | D7: 1、防护窗框尺寸1480*890mm 2、防护当量10mmpb， 3、材质热熔镀锌钢板静电粉末喷涂 | E7: 套 | F7: 1
A8: 2 | B8: 手动防护平开门 | C8: FXM0921 | D8: 1、门洞口：900*2100mm，规格900*2100mm 2、防护当量10mmpb， 3、饰面热熔镀锌钢板静电粉末喷涂 | E8: 套 | F8: 1
A9: 3 | B9: 闭门器 | E9: 套 | F9: 1
A10: 4 | B10: 电动推拉防护门 | C10: FXM1822 | D10: 1、门洞口：1800*2200mm，门体规格2100*2300mm 2、防护当量10mmpb， 3、饰面热熔镀锌钢板静电粉末喷涂 | E10: 套 | F10: 1
A11: 5 | B11: 智能门机 | C11: 重型门机 | E11: 套 | F11: 1
A12: 6 | B12: 门灯机联锁 | E12: 套 | F12: 1
A13: 7 | B13: 安全光幕 | E13: 套 | F13: 1
C14: ECT
A15: 1 | B15: 防护观察窗 | C15: 铅玻璃 | D15: 1、铅玻璃尺寸1400*800mm 2、防护当量4mmpb， | E15: 套 | F15: 1
C16: 防护窗框 | D16: 1、防护窗框尺寸1480*890mm 2、防护当量4mmpb， 3、材质热熔镀锌钢板静电粉末喷涂 | E16: 套 | F16: 1
A17: 2 | B17: 手动防护平开门 | C17: FXM0921 | D17: 1、门洞口：900*2100mm，规格900*2100mm 2、防护当量4mmpb， 3、饰面热熔镀锌钢板静电粉末喷涂 | E17: 套 | F17: 1
A18: 3 | B18: 闭门器 | E18: 套 | F18: 1
A19: 4 | B19: 电动推拉防护门 | C19: FXM1522 | D19: 1、门洞口：1500*2200mm，门体规格1800*2300mm 2、防护当量10mmpb， 3、饰面热熔镀锌钢板静电粉末喷涂 | E19: 套 | F19: 1
A20: 5 | B20: 智能门机 | C20: 重型门机 | E20: 套 | F20: 1
A21: 6 | B21: 门灯机联锁 | E21: 套 | F21: 1
A22: 7 | B22: 安全光幕 | E22: 套 | F22: 1
C23: 储源分装室
A24: 1 | B24: 手动防护平开门 | C24: FHM1022 | D24: 1、门洞口：1000*2200mm，门体规格1000*2200mm 2、防护当量10mmpb， 3、饰面热熔镀锌钢板静电粉末喷涂 | E24: 套 | F24: 1
A25: 2 | B25: 手动防护平开门 | C25: FHM1222 | D25: 1、门洞口：1200*2200mm，门体规格1200*2200mm 2、防护当量10mmpb， 3、饰面热熔镀锌钢板静电粉末喷涂 | E25: 套 | F25: 1
A26: 3 | B26: 闭门器 | E26: 套 | F26: 2
C27: 衰变室
A28: 1 | B28: 手动防护平开门 | C28: FHM1022 | D28: 1、门洞口：1000*2200mm，门体规格1000*2200mm 2、防护当量10mmpb， 3、饰面热熔镀锌钢板静电粉末喷涂 | E28: 套 | F28: 1
A29: 2 | B29: 闭门器 | E29: 套 | F29: 1
C30: 地下夹层核医学排水泵房
A31: 1 | B31: 手动防护对开门 | C31: FHM1521 | D31: 1、门洞口：1500*2100mm，门体规格1500*2100mm 2、防护当量10mmpb， 3、饰面热熔镀锌钢板静电粉末喷涂 | E31: 套 | F31: 1
A32: 2 | B32: 闭门器 | E32: 套 | F32: 2
C33: 注射室(医护）
A34: 1 | B34: 手动防护平开门 | C34: FHM1022 | D34: 1、门洞口：1000*2200mm，门体规格1000*2200mm 2、防护当量10mmpb， 3、饰面热熔镀锌钢板静电粉末喷涂 | E34: 套 | F34: 1
A35: 2 | B35: 闭门器 | E35: 套 | F35: 1
A36: 3 | B36: 注射牛头 | C36: 一体式注射台（内置衰变箱）40mmPb | D36: 洞口预留800*1900mm、 防护观察窗200*300mm、 操作观察窗250*250mm、 注射窗550*550。 1.注射屏蔽:六面相应屏蔽等级铅板防护 2.不锈钢承重注射台承重:> 550kg 3.照明灯 *1 + 紫外灯 *1+双向可视语音对讲系统*1 4.表面材质:饰面热熔镀锌钢板静电粉末喷涂 5.内置衰变箱 6.注射窗40mmPb防护 | E36: 套 | F36: 2
C37: 注射室（患者）
A38: 1 | B38: 手动防护平开门 | C38: FHM1122 | D38: 1、门洞口：1100*2200mm，门体规格1100*2200mm 2、防护当量10mmpb， 3、饰面热熔镀锌钢板静电粉末喷涂 | E38: 套 | F38: 1
A39: 2 | B39: 闭门器 | E39: 套 | F39: 1
C40: ECT候诊室（单人）
A41: 1 | B41: 手动防护平开门 | C41: FHM1122 | D41: 1、门洞口：1100*2200mm，门体规格1100*2200mm 2、防护当量10mmpb， 3、饰面热熔镀锌钢板静电粉末喷涂 | E41: 套 | F41: 1
A42: 2 | B42: 闭门器 | E42: 套 | F42: 1
C43: PET候诊室（单人）
A44: 1 | B44: 手动防护平开门 | C44: FHM1122 | D44: 1、门洞口：1100*2200mm，门体规格1100*2200mm 2、防护当量10mmpb， 3、饰面热熔镀锌钢板静电粉末喷涂 | E44: 套 | F44: 1
A45: 2 | B45: 闭门器 | E45: 套 | F45: 1
C46: 放射后休息室
A47: 1 | B47: 手动防护平开门 | C47: FHM1122 | D47: 1、门洞口：1100*2200mm，门体规格1100*2200mm 2、防护当量10mmpb， 3、饰面热熔镀锌钢板静电粉末喷涂 | E47: 套 | F47: 1
A48: 2 | B48: 闭门器 | E48: 套 | F48: 1
C49: 二次候诊走廊
A50: 1 | B50: 手动双扇防护平开门 | C50: FHM1524 | D50: 1、门洞口：1500*2400mm，门体规格1500*2400mm 2、防护当量10mmpb， 3、饰面热熔镀锌钢板静电粉末喷涂 | E50: 套 | F50: 1
A51: 2 | B51: 手动双扇防护平开门 | C51: FHM2025 | D51: 1、门洞口：2000*2500mm，门体规格2000*2500mm 2、防护当量10mmpb， 3、饰面热熔镀锌钢板静电粉末喷涂 | E51: 套 | F51: 1
A52: 3 | B52: 闭门器 | E52: 套 | F52: 4
C53: ERCP
A54: 1 | B54: 防护观察窗 | C54: 铅玻璃 | D54: 1、铅玻璃尺寸1400*800mm 2、防护当量3mmpb， | E54: 樘 | F54: 1
C55: 防护窗框 | D55: 1、防护窗框尺寸1480*890mm 2、防护当量3mmpb， 3、材质热熔镀锌钢板静电粉末喷涂 | E55: 套 | F55: 1
A56: 2 | B56: 手动防护平开门 | C56: FHM1121 | D56: 1、门洞口：1100*2200mm，门体规格1100*2200mm 2、防护当量2mmpb， 3、饰面热熔镀锌钢板静电粉末喷涂 | E56: 套 | F56: 2
A57: 3 | B57: 闭门器 | E57: 套 | F57: 1
A58: 4 | B58: 电动推拉防护门 | C58: FXM1522 | D58: 1、门洞口：1500*2200mm，门体规格1800*2300mm 2、防护当量2mmpb， 3、饰面热熔镀锌钢板静电粉末喷涂 | E58: 套 | F58: 1
A59: 5 | B59: 智能门机 | C59: 轻型门机 | E59: 套 | F59: 1
A60: 6 | B60: 门灯机联锁 | E60: 套 | F60: 1
A61: 7 | B61: 安全光幕 | E61: 套 | F61: 1
C62: CT机房
A63: 1 | B63: 防护观察窗 | C63: 铅玻璃 | D63: 1、铅玻璃尺寸1400*800mm 2、防护当量4mmpb， | E63: 套 | F63: 1
C64: 防护窗框 | D64: 1、防护窗框尺寸1480*890mm 2、防护当量4mmpb， 3、材质热熔镀锌钢板静电粉末喷涂 | E64: 套 | F64: 1
A65: 2 | B65: 手动防护平开门 | C65: FXM0922 | D65: 1、门洞口：900*2200mm，门体规格900*2200mm 2、防护当量4mmpb， 3、饰面热熔镀锌钢板静电粉末喷涂 | E65: 套 | F65: 1
A66: 3 | B66: 闭门器 | E66: 套 | F66: 1
A67: 4 | B67: 电动推拉防护门 | C67: FXM1522 | D67: 1、门洞口：1500*2200mm，门体规格1800*2300mm 2、防护当量4mmpb， 3、饰面热熔镀锌钢板静电粉末喷涂 | E67: 套 | F67: 1
A68: 5 | B68: 智能门机 | C68: 轻型门机 | E68: 套 | F68: 1
A69: 6 | B69: 门灯机联锁 | E69: 套 | F69: 1
A70: 7 | B70: 安全光幕 | E70: 套 | F70: 1
A71: 合计（元）

Sheet 二、三层
A1: 医教研中心放射防护工程清单
A2: 序号 | B2: 项目名称 | C2: 项目特征 | E2: 单位 | F2: 数量 | G2: 单价 | H2: 防护收口 | J2: 门窗套（与门窗材质相同） | K2: 安装及运输 | L2: 合价 铅板收口 | M2: 合价 硫酸钡收口 | N2: 备注
H3: 硫酸钡收口 | I3: 铅板收口
C4: 二层
C5: 一、CT机房（3间）
A6: 1 | B6: 防护观察窗 | C6: 铅玻璃 | D6: 1、铅玻璃尺寸1400*800mm 2、防护当量4mmpb， | E6: 樘 | F6: 3
C7: 防护窗框 | D7: 1、防护窗框尺寸1480*890mm 2、防护当量4mmpb， 3、材质热熔镀锌钢板静电粉末喷涂 | E7: 套 | F7: 3
A8: 2 | B8: 手动防护平开门 | C8: FXM0922 | D8: 1、门洞口：900*2200mm，门体规格900*2200mm 2、防护当量4mmpb， 3、饰面热熔镀锌钢板静电粉末喷涂 | E8: 套 | F8: 3
A9: 3 | B9: 闭门器 | E9: 套 | F9: 3
A10: 4 | B10: 电动推拉防护门 | C10: FXM1522 | D10: 1、门洞口：1500*2200mm，门体规格1800*2300mm 2、防护当量4mmpb， 3、饰面热熔镀锌钢板静电粉末喷涂 | E10: 套 | F10: 3
A11: 5 | B11: 智能门机 | C11: 轻型门机 | E11: 套 | F11: 3
A12: 6 | B12: 门灯机联锁 | E12: 套 | F12: 3
A13: 7 | B13: 安全光幕 | E13: 套 | F13: 3
C14: 二、胃肠机房
A15: 1 | B15: 防护观察窗 | C15: 铅玻璃 | D15: 1、铅玻璃尺寸1400*800mm 2、防护当量3mmpb， | E15: 樘 | F15: 1
C16: 防护窗框 | D16: 1、防护窗框尺寸1480*890mm 2、防护当量3mmpb， 3、材质热熔镀锌钢板静电粉末喷涂 | E16: 套 | F16: 1
A17: 2 | B17: 手动防护平开门 | C17: M1121 | D17: 1、门洞口：1100*2100mm，门体规格1100*2100mm 2、防护当量3mmpb， 3、饰面热熔镀锌钢板静电粉末喷涂 | E17: 套 | F17: 1
A18: 3 | B18: 手动防护平开门 | C18: M0922 | D18: 1、门洞口：900*2200mm，门体规格900*2200mm 2、防护当量3mmpb， 3、饰面热熔镀锌钢板静电粉末喷涂 | E18: 套 | F18: 1
A19: 4 | B19: 闭门器 | E19: 套 | F19: 2
A20: 5 | B20: 电动推拉防护门 | C20: FXM1522 | D20: 1、门洞口：1500*2200mm，门体规格1800*2300mm 2、防护当量3mmpb， 3、饰面热熔镀锌钢板静电粉末喷涂 | E20: 套 | F20: 1
A21: 6 | B21: 智能门机 | C21: 轻型门机 | E21: 套 | F21: 1
A22: 7 | B22: 门灯机联锁 | E22: 套 | F22: 1
A23: 8 | B23: 安全光幕 | E23: 套 | F23: 1
C24: 三、DR机房
A25: 1 | B25: 防护观察窗 | C25: 铅玻璃 | D25: 1、铅玻璃尺寸1400*800mm 2、防护当量3mmpb， | E25: 樘 | F25: 1
C26: 防护窗框 | D26: 1、防护窗框尺寸1480*890mm 2、防护当量3mmpb， 3、材质热熔镀锌钢板静电粉末喷涂 | E26: 套 | F26: 1
A27: 2 | B27: 手动防护平开门 | C27: FXM0922 | D27: 1、门洞口：900*2200mm，门体规格900*2200mm 2、防护当量3mmpb， 3、饰面热熔镀锌钢板静电粉末喷涂 | E27: 套 | F27: 1
A28: 3 | B28: 闭门器 | E28: 套 | F28: 1
A29: 4 | B29: 电动推拉防护门 | C29: FXM1522 | D29: 1、门洞口：1500*2200mm，门体规格1800*2300mm 2、防护当量3mmpb， 3、饰面热熔镀锌钢板静电粉末喷涂 | E29: 套 | F29: 1
A30: 5 | B30: 智能门机 | C30: 轻型门机 | E30: 套 | F30: 1
A31: 6 | B31: 门灯机联锁 | E31: 套 | F31: 1
A32: 7 | B32: 安全光幕 | E32: 套 | F32: 1
B33: 三层
C34: 钼靶机房
A35: 1 | B35: 防护观察窗 | C35: 铅玻璃 | D35: 1、铅玻璃尺寸1400*800mm 2、防护当量2mmpb， | E35: 樘 | F35: 1
C36: 防护窗框 | D36: 1、防护窗框尺寸1480*890mm 2、防护当量2mmpb， 3、材质热熔镀锌钢板静电粉末喷涂 | E36: 套 | F36: 1
A37: 2 | B37: 手动防护平开门 | C37: M1121 | D37: 1、门洞口：1100*2100mm，门体规格1100*2100mm 2、防护当量2mmpb， 3、饰面热熔镀锌钢板静电粉末喷涂 | E37: 套 | F37: 1
A38: 3 | B38: 闭门器 | E38: 套 | F38: 1
A39: 4 | B39: 电动推拉防护门 | C39: FXM1522 | D39: 1、门洞口：1500*2200mm，门体规格1800*2300mm 2、防护当量2mmpb， 3、饰面热熔镀锌钢板静电粉末喷涂 | E39: 套 | F39: 1
A40: 5 | B40: 智能门机 | C40: 轻型门机 | E40: 套 | F40: 1
A41: 6 | B41: 门灯机联锁 | E41: 套 | F41: 1
A42: 7 | B42: 安全光幕 | E42: 套 | F42: 1
A43: 合计（元）

Sheet 衰变池
A1: 放射性废液自动处理系统
A2: 序号 | B2: 产品 | C2: 主要技术描述 | G2: 单位 | I2: 价格
A3: 放射性废液自动处理系统为三级衰变箱体设计，每级处理量为17.5立方米。
A4: 1 | B4: 放射性废液衰变系统管路预埋 | C4: 三级衰变箱体设计，衰变箱体数量：3 个，；衰变方式：箱式衰变；监测方式：三级监测；电源需求： AC 380V / 16A；三相五线制 | G4: 3 | H4: 套
A5: 2 | B5: 程控式 PLC显示控制系统 | C5: 显示控制方式：显示控制；显示控制屏：10"触摸式； 程序设计器：数字式 PLC 可扩充型 | G5: 1 | H5: 套
A6: 3 | B6: 取样监测系统 | C6: 监测准确灵敏；NaI 专用探头，限时可作为区域剂量显示功能存在；自动/手动取样测量 | G6: 1 | H6: 套
A7: 4 | B7: 系统支持软件 | C7: 监视/显示/报警/控制/排放系统/故障显示/历史记录；触摸屏式操控界面；方便的 Menu菜单式操控式界面；人机界面讯息显示：有；监测显示异常报警：有；历史排放记录存档及查阅：有 | G7: 1 | H7: 套
A8: 5 | B8: 温湿度控制显示及 I/O接点 | C8: 1、实时显示场地温湿度；2、温度/湿度超出预设范围提示报警 3、联动除湿设备；如排风扇，除湿机等；4、更多个性化接点可供选择 | G8: 1 | H8: 套
A9: 6 | B9: 压力传感器 | C9: 国产或进口优质自控 JYB-KO-H2（0-0.1bar）；压力传感液位模块；重复性 < 0.2%fs；保护等级 IP65；上位气压传输，避免事故漏水引起的损坏 | G9: 3 | H9: 套
A10: 7 | B10: 电动阀执行器 | C10: 执行机构控制方式：电动 / 手动双重控制；密封等级 IP67；开关时间 10-30 s；输出扭力 350 kgf-cm；上、下执行器均高位安装，避免事故漏水引起的损坏 | G10: 7 | H10: 套
A11: 8 | B11: 卧式自吸式排污泵 | C11: MS轻型卧式单级离心泵 | G11: 1 | H11: 套
A12: 9 | B12: 放射性废液控制柜 | C12: 工业控制器、模拟量模块、扩展模块、人机交互界面；开关电源、输出继电器等 | G12: 1 | H12: 套

Sheet 地下二层
A1: 序号 | B1: 项目名称 | C1: 项目特征 | E1: 单位 | F1: 数量 | G1: 单价 | H1: 防护收口 | J1: 门窗套（与门窗材质相同） | K1: 安装及运输 | L1: 合价 （铅板收口） | M1: 合价 （硫酸钡收口） | N1: 备注
H2: 硫酸钡收口 | I2: 铅板收口
C3: 负二层
C4: 一、CT机房（3间）
A5: 1 | B5: 防护观察窗 | C5: 铅玻璃 | D5: 1、铅玻璃尺寸1100*900mm 2、防护当量3mmpb， | E5: 樘 | F5: 2
C6: 防护窗框 | D6: 1、防护窗框尺寸1180*890mm 2、防护当量3mmpb， 3、材质热熔镀锌钢板静电粉末喷涂 | E6: 套 | F6: 2
A7: 2 | B7: 手动防护平开门 | C7: FXM0922 | D7: 1、门洞口：900*2200mm，门体规格900*2200mm 2、防护当量3mmpb， 3、饰面热熔镀锌钢板静电粉末喷涂 | E7: 套 | F7: 2
A8: 3 | B8: 闭门器 | E8: 套 | F8: 2
A9: 4 | B9: 电动推拉防护门 | C9: FXM1522 | D9: 1、门洞口：1200*2200mm，门体规格1500*2300mm 2、防护当量3mmpb， 3、饰面热熔镀锌钢板静电粉末喷涂 | E9: 套 | F9: 2
A10: 5 | B10: 智能门机 | C10: 轻型门机 | E10: 套 | F10: 2
A11: 6 | B11: 门灯机联锁 | E11: 套 | F11: 2
A12: 7 | B12: 安全光幕 | E12: 套 | F12: 2
B13: 总计
